BEGIN:VCALENDAR
VERSION:2.0
PRODID:-//TYPO3/NONSGML News system (news)//EN
BEGIN:VEVENT
UID:news-1151@www.dih-sued.at
DTSTAMP:20260325T123158Z
DTSTART:20260430T060000Z
DTEND:20260430T133000Z
SUMMARY:Women in Data Science Villach
DESCRIPTION:An independent regional initiative of WiDS worldwide
LOCATION:, Europastraße 4, 9500 Villach
END:VEVENT
END:VCALENDAR