BEGIN:VCALENDAR
VERSION:2.0
PRODID:-//TYPO3/NONSGML News system (news)//EN
BEGIN:VEVENT
UID:news-1154@www.dih-sued.at
DTSTAMP:20260417T064228Z
DTSTART:20260518T140000Z
DTEND:20260518T160000Z
SUMMARY:Von ChatGPT bis EU AI Act: LLMs im Unternehmenskontext
DESCRIPTION:
LOCATION:
END:VEVENT
END:VCALENDAR