BEGIN:VCALENDAR
VERSION:2.0
PRODID:-//TYPO3/NONSGML News system (news)//EN
BEGIN:VEVENT
UID:news-1171@www.dih-sued.at
DTSTAMP:20260415T070716Z
DTSTART:20260609T070000Z
DTEND:20260623T100000Z
SUMMARY:Neue Designfreiheiten durch Metall-3D-Druck für Konstrukteur:innen
DESCRIPTION:Einführung in die Grundlagen, Prozessgrenzen und Designmöglichkeiten der additiven Fertigung und Möglichkeiten der Umsetzung
LOCATION:JOANNEUM RESEARCH MATERIAL, Leobner Straße 94a, OG1, 8712 Niklasdorf
END:VEVENT
END:VCALENDAR