BEGIN:VCALENDAR
VERSION:2.0
PRODID:-//TYPO3/NONSGML News system (news)//EN
BEGIN:VEVENT
UID:news-1074@www.dih-sued.at
DTSTAMP:20260324T085405Z
DTSTART:20260213T080000Z
DTEND:20260529T140000Z
SUMMARY:Micro-Credential: Filamentbasierter 3D-Druck
DESCRIPTION:Vom Material über die Konstruktion hin zur individualen Anwendung
LOCATION:Karnische Werkstätte, Kötschach 450, 9640 Kötschach-Mauthen
END:VEVENT
END:VCALENDAR