BEGIN:VCALENDAR
VERSION:2.0
PRODID:-//TYPO3/NONSGML News system (news)//EN
BEGIN:VEVENT
UID:news-1167@www.dih-sued.at
DTSTAMP:20260408T124600Z
DTSTART:20260611T070000Z
DTEND:20260611T140000Z
SUMMARY:KWF on the road
DESCRIPTION:»Fokus.Innovation« | 11. Juni 2026 in der PMS Innovationswerkstatt Lavanttal
LOCATION:PMS Technikum Lavanttal GmbH St. Stefan, PMS Straße 1 , 9431 St.Stefan
END:VEVENT
END:VCALENDAR