BEGIN:VCALENDAR
VERSION:2.0
PRODID:-//TYPO3/NONSGML News system (news)//EN
BEGIN:VEVENT
UID:news-1166@www.dih-sued.at
DTSTAMP:20260408T123937Z
DTSTART:20260528T070000Z
DTEND:20260528T140000Z
SUMMARY:KWF on the road
DESCRIPTION:»Die Region innovieren!« | 28. Mai 2026 in der WKK-Bezirksstelle Feldkirchen
LOCATION:WKK-Bezirksstelle Feldkirchen, Dr.-A.-Lemisch-Straße 4, 9560 Feldkirchen in Kärnten
END:VEVENT
END:VCALENDAR