BEGIN:VCALENDAR
VERSION:2.0
PRODID:-//TYPO3/NONSGML News system (news)//EN
BEGIN:VEVENT
UID:news-1069@www.dih-sued.at
DTSTAMP:20260417T064935Z
DTSTART:20260610T110000Z
DTEND:20260610T140000Z
SUMMARY:KI-Strategie für KMU
DESCRIPTION:KI strategisch im Unternehmen verankern - KI-Stoßrichtungen, KI-Ressourcen, KI-Projekte
LOCATION:
END:VEVENT
END:VCALENDAR