BEGIN:VCALENDAR
VERSION:2.0
PRODID:-//TYPO3/NONSGML News system (news)//EN
BEGIN:VEVENT
UID:news-1172@www.dih-sued.at
DTSTAMP:20260421T064323Z
DTSTART:20260508T073000Z
DTEND:20260508T150000Z
SUMMARY:Lehrlingsakademie KI-Einsatz in KMU 
DESCRIPTION:&quot;Was kann KI wirklich? Finde es heraus - im KI Mobil.&quot;
LOCATION:, Kötschach 450
, 9640 Kötschach-Mauthen
END:VEVENT
END:VCALENDAR