BEGIN:VCALENDAR
VERSION:2.0
PRODID:-//TYPO3/NONSGML News system (news)//EN
BEGIN:VEVENT
UID:news-1159@www.dih-sued.at
DTSTAMP:20260402T134900Z
DTSTART:20260429T060000Z
DTEND:20260429T090000Z
SUMMARY:BUSINESS FRÜHSTÜCK - KI in der Praxis: Wie Sie Künstliche Intelligenz sinnvoll in Ihrem Betrieb einsetzen
DESCRIPTION:Impulsvorträge &amp; Networking
LOCATION:Wirtschaftskammer Weiz, Gleisdorfer Straße 43, 8160 Weiz
END:VEVENT
END:VCALENDAR