BEGIN:VCALENDAR
VERSION:2.0
PRODID:-//TYPO3/NONSGML News system (news)//EN
BEGIN:VEVENT
UID:news-1157@www.dih-sued.at
DTSTAMP:20260401T124235Z
DTSTART:20260713T080000Z
DTEND:20260713T100000Z
SUMMARY:KI im Marketing – Grundlagen und praxisnahe Anwendung für KMU
DESCRIPTION:systematischer und praxisnaher Einsatz zur marktorientierten Unternehmensführung
LOCATION:
END:VEVENT
END:VCALENDAR