BEGIN:VCALENDAR
VERSION:2.0
PRODID:-//TYPO3/NONSGML News system (news)//EN
BEGIN:VEVENT
UID:news-1156@www.dih-sued.at
DTSTAMP:20260401T145627Z
DTSTART:20260622T080000Z
DTEND:20260622T100000Z
SUMMARY:KI im Marketing – Grundlagen und praxisnahe Anwendung für KMU
DESCRIPTION:systematischer und praxisnaher Einsatz zur marktorientierten Unternehmensführung
LOCATION:
END:VEVENT
END:VCALENDAR