BEGIN:VCALENDAR
VERSION:2.0
PRODID:-//TYPO3/NONSGML News system (news)//EN
BEGIN:VEVENT
UID:news-1168@www.dih-sued.at
DTSTAMP:20260409T122623Z
DTSTART:20260507T113000Z
DTEND:20260507T113000Z
SUMMARY: Innovationsevent mit Verleihung des Innovations- und Forschungspreis 2026
DESCRIPTION:»Innovation gestaltet Zukunft«
LOCATION:Droneberger Eventhalle, Gerberweg 44, 9020 Klagenfurt
END:VEVENT
END:VCALENDAR