BEGIN:VCALENDAR
VERSION:2.0
PRODID:-//TYPO3/NONSGML News system (news)//EN
BEGIN:VEVENT
UID:news-1174@www.dih-sued.at
DTSTAMP:20260420T125337Z
DTSTART:20260423T140000Z
DTEND:20260423T160000Z
SUMMARY:Globale Talente für Österreich: Fachkräfte finden, testen &amp; einsetzen
DESCRIPTION:So bauen Sie flexible IT- / Ingenieur-Teams - ohne Festanstellungsrisiko &amp; rechtliche Hürden. 
LOCATION:
END:VEVENT
END:VCALENDAR