BEGIN:VCALENDAR
VERSION:2.0
PRODID:-//TYPO3/NONSGML News system (news)//EN
BEGIN:VEVENT
UID:news-1158@www.dih-sued.at
DTSTAMP:20260421T100109Z
DTSTART:20260602T070000Z
DTEND:20260602T100000Z
SUMMARY:Bau dein eigenes digitales Tool in 3 Stunden — ohne Code, ohne Agentur. 
DESCRIPTION:Website. Dashboard. Buchungsseite, etc. Let´s vibe-code!
LOCATION:
END:VEVENT
END:VCALENDAR