BEGIN:VCALENDAR
VERSION:2.0
PRODID:-//TYPO3/NONSGML News system (news)//EN
BEGIN:VEVENT
UID:news-1139@www.dih-sued.at
DTSTAMP:20260309T085228Z
DTSTART:20260428T150000Z
DTEND:20260428T160000Z
SUMMARY:AMS DIGITAL LOUNGES zu aktuellen Trends am Arbeitsmarkt
DESCRIPTION:Entscheidungspsychologie im Berufsalltag – Menschen erreichen, Entscheidungen 
steuern, Wirkung entfalten 
LOCATION:
END:VEVENT
END:VCALENDAR