BEGIN:VCALENDAR
VERSION:2.0
PRODID:-//TYPO3/NONSGML News system (news)//EN
BEGIN:VEVENT
UID:news-1162@www.dih-sued.at
DTSTAMP:20260422T113941Z
DTSTART:20260618T070000Z
DTEND:20260618T100000Z
SUMMARY:KI Startklar: Use Cases für KMU
DESCRIPTION:Verständnis für Planung &amp; Umsetzung von Künstlicher Intelligenz innerhalb des eigenen Unternehmens
LOCATION:
END:VEVENT
END:VCALENDAR